BEGIN:VCALENDAR
VERSION:2.0
PRODID:-//Orange County Region, VCCA - ECPv6.15.20//NONSGML v1.0//EN
CALSCALE:GREGORIAN
METHOD:PUBLISH
X-ORIGINAL-URL:https://ocrvcca.org
X-WR-CALDESC:Events for Orange County Region, VCCA
REFRESH-INTERVAL;VALUE=DURATION:PT1H
X-Robots-Tag:noindex
X-PUBLISHED-TTL:PT1H
BEGIN:VTIMEZONE
TZID:America/Los_Angeles
BEGIN:DAYLIGHT
TZOFFSETFROM:-0800
TZOFFSETTO:-0700
TZNAME:PDT
DTSTART:20230312T100000
END:DAYLIGHT
BEGIN:STANDARD
TZOFFSETFROM:-0700
TZOFFSETTO:-0800
TZNAME:PST
DTSTART:20231105T090000
END:STANDARD
BEGIN:DAYLIGHT
TZOFFSETFROM:-0800
TZOFFSETTO:-0700
TZNAME:PDT
DTSTART:20240310T100000
END:DAYLIGHT
BEGIN:STANDARD
TZOFFSETFROM:-0700
TZOFFSETTO:-0800
TZNAME:PST
DTSTART:20241103T090000
END:STANDARD
BEGIN:DAYLIGHT
TZOFFSETFROM:-0800
TZOFFSETTO:-0700
TZNAME:PDT
DTSTART:20250309T100000
END:DAYLIGHT
BEGIN:STANDARD
TZOFFSETFROM:-0700
TZOFFSETTO:-0800
TZNAME:PST
DTSTART:20251102T090000
END:STANDARD
END:VTIMEZONE
BEGIN:VEVENT
DTSTART;TZID=America/Los_Angeles:20241013T090000
DTEND;TZID=America/Los_Angeles:20241013T150000
DTSTAMP:20260424T063650
CREATED:20240407T213816Z
LAST-MODIFIED:20240520T014429Z
UID:785-1728810000-1728831600@ocrvcca.org
SUMMARY:OCVCCA 20th Annual All Chevrolet Show
DESCRIPTION:All Pre-2000 Chevrolet and GMC vehicles are welcome.  A portion of the proceeds go to the Vintage Chevrolet Heritage Foundation.  VCCA National Judging and PCC judging is being offered at the show.  The show will also have 35 peer judging classes and committee awards.  In all over 40 awards will be presented at the show! \n\n\n\nRegister Online Now! | Download the Mail-In Registration Form \n\n\n\nThe gate opens to entrants for parking at 7:00 AM.
URL:https://ocrvcca.org/event/ocvcca-20th-annual-all-chevrolet-show/
LOCATION:Connell Chevrolet\, 2828 Harbor Blvd\, Costa Mesa\, California\, 92626\, United States
ORGANIZER;CN="Dennis Hergenreter%2C Show Manager":MAILTO:carshow@ocrvcca.org
END:VEVENT
END:VCALENDAR