BEGIN:VCALENDAR
VERSION:2.0
PRODID:-//Orange County Region, VCCA - ECPv6.15.20//NONSGML v1.0//EN
CALSCALE:GREGORIAN
METHOD:PUBLISH
X-ORIGINAL-URL:https://ocrvcca.org
X-WR-CALDESC:Events for Orange County Region, VCCA
REFRESH-INTERVAL;VALUE=DURATION:PT1H
X-Robots-Tag:noindex
X-PUBLISHED-TTL:PT1H
BEGIN:VTIMEZONE
TZID:America/Los_Angeles
BEGIN:DAYLIGHT
TZOFFSETFROM:-0800
TZOFFSETTO:-0700
TZNAME:PDT
DTSTART:20240310T100000
END:DAYLIGHT
BEGIN:STANDARD
TZOFFSETFROM:-0700
TZOFFSETTO:-0800
TZNAME:PST
DTSTART:20241103T090000
END:STANDARD
BEGIN:DAYLIGHT
TZOFFSETFROM:-0800
TZOFFSETTO:-0700
TZNAME:PDT
DTSTART:20250309T100000
END:DAYLIGHT
BEGIN:STANDARD
TZOFFSETFROM:-0700
TZOFFSETTO:-0800
TZNAME:PST
DTSTART:20251102T090000
END:STANDARD
BEGIN:DAYLIGHT
TZOFFSETFROM:-0800
TZOFFSETTO:-0700
TZNAME:PDT
DTSTART:20260308T100000
END:DAYLIGHT
BEGIN:STANDARD
TZOFFSETFROM:-0700
TZOFFSETTO:-0800
TZNAME:PST
DTSTART:20261101T090000
END:STANDARD
END:VTIMEZONE
BEGIN:VEVENT
DTSTART;TZID=America/Los_Angeles:20250518T110000
DTEND;TZID=America/Los_Angeles:20250518T140000
DTSTAMP:20260423T224611
CREATED:20250518T132511Z
LAST-MODIFIED:20250518T134951Z
UID:1146-1747566000-1747576800@ocrvcca.org
SUMMARY:Picnic In The Park
DESCRIPTION:Membership Picnic
URL:https://ocrvcca.org/event/picnic-in-the-park/
LOCATION:Peppertree Park\, 230 West First Street\, Tustin Street\, California\, 92780\, United States
ORGANIZER;CN="Gregg Bunch%2C Picnic Co-Chair":MAILTO:picnic@ocrbcca.org
END:VEVENT
END:VCALENDAR