BEGIN:VCALENDAR
VERSION:2.0
PRODID:-//Orange County Region, VCCA - ECPv6.15.20//NONSGML v1.0//EN
CALSCALE:GREGORIAN
METHOD:PUBLISH
X-ORIGINAL-URL:https://ocrvcca.org
X-WR-CALDESC:Events for Orange County Region, VCCA
REFRESH-INTERVAL;VALUE=DURATION:PT1H
X-Robots-Tag:noindex
X-PUBLISHED-TTL:PT1H
BEGIN:VTIMEZONE
TZID:America/Los_Angeles
BEGIN:DAYLIGHT
TZOFFSETFROM:-0800
TZOFFSETTO:-0700
TZNAME:PDT
DTSTART:20240310T100000
END:DAYLIGHT
BEGIN:STANDARD
TZOFFSETFROM:-0700
TZOFFSETTO:-0800
TZNAME:PST
DTSTART:20241103T090000
END:STANDARD
BEGIN:DAYLIGHT
TZOFFSETFROM:-0800
TZOFFSETTO:-0700
TZNAME:PDT
DTSTART:20250309T100000
END:DAYLIGHT
BEGIN:STANDARD
TZOFFSETFROM:-0700
TZOFFSETTO:-0800
TZNAME:PST
DTSTART:20251102T090000
END:STANDARD
BEGIN:DAYLIGHT
TZOFFSETFROM:-0800
TZOFFSETTO:-0700
TZNAME:PDT
DTSTART:20260308T100000
END:DAYLIGHT
BEGIN:STANDARD
TZOFFSETFROM:-0700
TZOFFSETTO:-0800
TZNAME:PST
DTSTART:20261101T090000
END:STANDARD
END:VTIMEZONE
BEGIN:VEVENT
DTSTART;TZID=America/Los_Angeles:20251012T070000
DTEND;TZID=America/Los_Angeles:20251012T140000
DTSTAMP:20260423T164935
CREATED:20250518T132512Z
LAST-MODIFIED:20250821T210727Z
UID:1147-1760252400-1760277600@ocrvcca.org
SUMMARY:21st Annual OCVCCA All Chevrolet Car Show
DESCRIPTION:Annual All Chevrolet Car Show \n\n\n\nAll Pre-2001 Chevrolet and GMC vehicles are welcome. A portion of the proceeds go to the Vintage Chevrolet Heritage Foundation. VCCA National Judging and PCC judging is being offered at the show.
URL:https://ocrvcca.org/event/21st-annual-ocvcca-all-chevrolet-car-show/
LOCATION:Jordan Family Classic Cars and Hot Rod Haven Storage\, 2851 Pullman Street\, Santa Ana\, 92705\, United States
ATTACH;FMTTYPE=image/webp:https://ocrvcca.org/wp-content/uploads/2025/04/OCVCCA_2025_All_Chevy_Show_550h_X_425w.webp
ORGANIZER;CN="Dennis Hergenreter%2C Show Manager":MAILTO:carshow@ocrvcca.org
END:VEVENT
END:VCALENDAR