BEGIN:VCALENDAR
VERSION:2.0
PRODID:-//Orange County Region, VCCA - ECPv6.15.20//NONSGML v1.0//EN
CALSCALE:GREGORIAN
METHOD:PUBLISH
X-WR-CALNAME:Orange County Region, VCCA
X-ORIGINAL-URL:https://ocrvcca.org
X-WR-CALDESC:Events for Orange County Region, VCCA
REFRESH-INTERVAL;VALUE=DURATION:PT1H
X-Robots-Tag:noindex
X-PUBLISHED-TTL:PT1H
BEGIN:VTIMEZONE
TZID:America/Los_Angeles
BEGIN:DAYLIGHT
TZOFFSETFROM:-0800
TZOFFSETTO:-0700
TZNAME:PDT
DTSTART:20230312T100000
END:DAYLIGHT
BEGIN:STANDARD
TZOFFSETFROM:-0700
TZOFFSETTO:-0800
TZNAME:PST
DTSTART:20231105T090000
END:STANDARD
BEGIN:DAYLIGHT
TZOFFSETFROM:-0800
TZOFFSETTO:-0700
TZNAME:PDT
DTSTART:20240310T100000
END:DAYLIGHT
BEGIN:STANDARD
TZOFFSETFROM:-0700
TZOFFSETTO:-0800
TZNAME:PST
DTSTART:20241103T090000
END:STANDARD
BEGIN:DAYLIGHT
TZOFFSETFROM:-0800
TZOFFSETTO:-0700
TZNAME:PDT
DTSTART:20250309T100000
END:DAYLIGHT
BEGIN:STANDARD
TZOFFSETFROM:-0700
TZOFFSETTO:-0800
TZNAME:PST
DTSTART:20251102T090000
END:STANDARD
BEGIN:DAYLIGHT
TZOFFSETFROM:-0800
TZOFFSETTO:-0700
TZNAME:PDT
DTSTART:20260308T100000
END:DAYLIGHT
BEGIN:STANDARD
TZOFFSETFROM:-0700
TZOFFSETTO:-0800
TZNAME:PST
DTSTART:20261101T090000
END:STANDARD
BEGIN:DAYLIGHT
TZOFFSETFROM:-0800
TZOFFSETTO:-0700
TZNAME:PDT
DTSTART:20270314T100000
END:DAYLIGHT
BEGIN:STANDARD
TZOFFSETFROM:-0700
TZOFFSETTO:-0800
TZNAME:PST
DTSTART:20271107T090000
END:STANDARD
END:VTIMEZONE
BEGIN:VEVENT
DTSTART;TZID=America/Los_Angeles:20260117T090000
DTEND;TZID=America/Los_Angeles:20260117T103000
DTSTAMP:20260423T124717
CREATED:20250518T132457Z
LAST-MODIFIED:20250821T204830Z
UID:1143-1768640400-1768645800@ocrvcca.org
SUMMARY:OCVCCA Breakfast Club
DESCRIPTION:Monthly club membership breakfast gathering.
URL:https://ocrvcca.org/event/ocvcca-breakfast-club-27/
LOCATION:Hof’s Hut Restaurant & Bakery\, 12489 Seal Beach Blvd.\, Seal Beach\, CA\, 90740\, United States
ATTACH;FMTTYPE=image/png:https://ocrvcca.org/wp-content/uploads/2024/04/Hofs-Hut_Logo_Horizontal.png
ORGANIZER;CN="Susan Hergenreter%2C Secretary":MAILTO:secretary@ocrvcca.org
END:VEVENT
BEGIN:VEVENT
DTSTART;TZID=America/Los_Angeles:20260113T190000
DTEND;TZID=America/Los_Angeles:20260113T203000
DTSTAMP:20260423T124717
CREATED:20250518T132441Z
LAST-MODIFIED:20250518T134156Z
UID:1136-1768330800-1768336200@ocrvcca.org
SUMMARY:OCVCCA General Meeting
DESCRIPTION:Monthly club business meeting.
URL:https://ocrvcca.org/event/ocvcca-general-meeting-15/
LOCATION:Church of the Foothills\, 19211 Dodge Ave.\, Santa Ana\, CA\, 92705\, United States
ORGANIZER;CN="Denis Hergenreter%2C Director":MAILTO:director@ocrvcca.org
END:VEVENT
BEGIN:VEVENT
DTSTART;TZID=America/Los_Angeles:20260113T173000
DTEND;TZID=America/Los_Angeles:20260113T184500
DTSTAMP:20260423T124717
CREATED:20250821T210344Z
LAST-MODIFIED:20260102T184505Z
UID:1269-1768325400-1768329900@ocrvcca.org
SUMMARY:OCVCCA Supper Club
DESCRIPTION:The meeting before the meeting.
URL:https://ocrvcca.org/event/ocvcca-supper-club-5/
LOCATION:Denny’s Restaurant – 17th Street Santa Ana\, 2314 E 17th St.\, Santa Ana\, CA 92705\, United States
ORGANIZER;CN="Janet Potter":MAILTO:djabpotter@hotmail.com
END:VEVENT
BEGIN:VEVENT
DTSTART;TZID=America/Los_Angeles:20251206T110000
DTEND;TZID=America/Los_Angeles:20251206T140000
DTSTAMP:20260423T124717
CREATED:20250518T132457Z
LAST-MODIFIED:20250821T205659Z
UID:1144-1765018800-1765029600@ocrvcca.org
SUMMARY:OCVCCA Holiday Luncheon
DESCRIPTION:Holiday Luncheon
URL:https://ocrvcca.org/event/ocvcca-club-holiday-luncheon/
LOCATION:Gulliver’s Restaurant\, 18482 MacArthur Blvd\, Irvine\, California\, 92612\, United States
ATTACH;FMTTYPE=image/jpeg:https://ocrvcca.org/wp-content/uploads/2025/08/Gullivers_Irvine.jpg
ORGANIZER;CN="Judy Howard%2C Holiday Party Organizer":MAILTO:holidayparty@ocrvcca.org
END:VEVENT
BEGIN:VEVENT
DTSTART;TZID=America/Los_Angeles:20251115T100000
DTEND;TZID=America/Los_Angeles:20251115T113000
DTSTAMP:20260423T124717
CREATED:20250821T200742Z
LAST-MODIFIED:20250921T223437Z
UID:1242-1763200800-1763206200@ocrvcca.org
SUMMARY:OCVCCA at the Marconi
DESCRIPTION:Join your fellow OCVCCA club members as we tour this amazing car collection exhibit venue.  We will first have a nice pancake breakfast at the nearby IHOP in Santa Ana before we head over to tour this world-class venue.
URL:https://ocrvcca.org/event/ocvcca-at-the-marconi/
LOCATION:Marconi Automotive Museum\, 1302 Industrial Dr.\, Tustin\, CA\, 92780\, United States
ATTACH;FMTTYPE=image/jpeg:https://ocrvcca.org/wp-content/uploads/2025/08/Marconi_Logo-1.jpg
ORGANIZER;CN="David Potter%2C Tour Master":MAILTO:tours@ocrvcca.org
END:VEVENT
BEGIN:VEVENT
DTSTART;TZID=America/Los_Angeles:20251115T083000
DTEND;TZID=America/Los_Angeles:20251115T094500
DTSTAMP:20260423T124717
CREATED:20250518T132457Z
LAST-MODIFIED:20250921T223641Z
UID:1142-1763195400-1763199900@ocrvcca.org
SUMMARY:OCVCCA Breakfast Club
DESCRIPTION:Monthly club membership breakfast gathering.
URL:https://ocrvcca.org/event/ocvcca-breakfast-club-26/
LOCATION:Hof’s Hut Restaurant & Bakery\, 12489 Seal Beach Blvd.\, Seal Beach\, CA\, 90740\, United States
ATTACH;FMTTYPE=image/png:https://ocrvcca.org/wp-content/uploads/2024/04/Hofs-Hut_Logo_Horizontal.png
ORGANIZER;CN="Susan Hergenreter%2C Secretary":MAILTO:secretary@ocrvcca.org
END:VEVENT
BEGIN:VEVENT
DTSTART;TZID=America/Los_Angeles:20251111T190000
DTEND;TZID=America/Los_Angeles:20251111T203000
DTSTAMP:20260423T124717
CREATED:20250518T132440Z
LAST-MODIFIED:20250518T134541Z
UID:1135-1762887600-1762893000@ocrvcca.org
SUMMARY:OCVCCA General Meeting
DESCRIPTION:Monthly club business meeting.
URL:https://ocrvcca.org/event/ocvcca-general-meeting-14/
LOCATION:Church of the Foothills\, 19211 Dodge Ave.\, Santa Ana\, CA\, 92705\, United States
ORGANIZER;CN="Denis Hergenreter%2C Director":MAILTO:director@ocrvcca.org
END:VEVENT
BEGIN:VEVENT
DTSTART;TZID=America/Los_Angeles:20251111T173000
DTEND;TZID=America/Los_Angeles:20251111T184500
DTSTAMP:20260423T124717
CREATED:20250804T132254Z
LAST-MODIFIED:20250821T185850Z
UID:1221-1762882200-1762886700@ocrvcca.org
SUMMARY:OCVCCA Supper Club
DESCRIPTION:The meeting before the meeting!
URL:https://ocrvcca.org/event/ocvcca-supper-club-4/
LOCATION:El Torito Tustin\, 17420 17th St.\, Tustin\, CA\, 92780\, United States
ORGANIZER;CN="Susan Hergenreter%2C Secretary":MAILTO:secretary@ocrvcca.org
END:VEVENT
BEGIN:VEVENT
DTSTART;TZID=America/Los_Angeles:20251018T090000
DTEND;TZID=America/Los_Angeles:20251018T103000
DTSTAMP:20260423T124717
CREATED:20250518T132457Z
LAST-MODIFIED:20250821T204610Z
UID:1141-1760778000-1760783400@ocrvcca.org
SUMMARY:OCVCCA Breakfast Club
DESCRIPTION:https://hofshut.com/locations/seal-beachMonthly club membership breakfast gathering.
URL:https://ocrvcca.org/event/ocvcca-breakfast-club-25/
LOCATION:Hof’s Hut Restaurant & Bakery\, 12489 Seal Beach Blvd.\, Seal Beach\, CA\, 90740\, United States
CATEGORIES:Breakfast Club Meet,OCVCCA Event
ATTACH;FMTTYPE=image/png:https://ocrvcca.org/wp-content/uploads/2024/04/Hofs-Hut_Logo_Horizontal.png
ORGANIZER;CN="Susan Hergenreter%2C Secretary":MAILTO:secretary@ocrvcca.org
END:VEVENT
BEGIN:VEVENT
DTSTART;TZID=America/Los_Angeles:20251014T190000
DTEND;TZID=America/Los_Angeles:20251014T203000
DTSTAMP:20260423T124717
CREATED:20250518T132436Z
LAST-MODIFIED:20250518T134620Z
UID:1134-1760468400-1760473800@ocrvcca.org
SUMMARY:OCVCCA General Meeting
DESCRIPTION:Monthly club business meeting.
URL:https://ocrvcca.org/event/ocvcca-general-meeting-13/
LOCATION:Church of the Foothills\, 19211 Dodge Ave.\, Santa Ana\, CA\, 92705\, United States
ORGANIZER;CN="Denis Hergenreter%2C Director":MAILTO:director@ocrvcca.org
END:VEVENT
BEGIN:VEVENT
DTSTART;TZID=America/Los_Angeles:20251014T173000
DTEND;TZID=America/Los_Angeles:20251014T184500
DTSTAMP:20260423T124717
CREATED:20250804T132107Z
LAST-MODIFIED:20250821T205915Z
UID:1219-1760463000-1760467500@ocrvcca.org
SUMMARY:OCVCCA Supper Club
DESCRIPTION:The meeting before the meeting!
URL:https://ocrvcca.org/event/ocvcca-supper-club-3/
LOCATION:El Torito Tustin\, 17420 17th St.\, Tustin\, CA\, 92780\, United States
ORGANIZER;CN="Susan Hergenreter%2C Secretary":MAILTO:secretary@ocrvcca.org
END:VEVENT
BEGIN:VEVENT
DTSTART;TZID=America/Los_Angeles:20251012T070000
DTEND;TZID=America/Los_Angeles:20251012T140000
DTSTAMP:20260423T124717
CREATED:20250518T132512Z
LAST-MODIFIED:20250821T210727Z
UID:1147-1760252400-1760277600@ocrvcca.org
SUMMARY:21st Annual OCVCCA All Chevrolet Car Show
DESCRIPTION:Annual All Chevrolet Car Show \n\n\n\nAll Pre-2001 Chevrolet and GMC vehicles are welcome. A portion of the proceeds go to the Vintage Chevrolet Heritage Foundation. VCCA National Judging and PCC judging is being offered at the show.
URL:https://ocrvcca.org/event/21st-annual-ocvcca-all-chevrolet-car-show/
LOCATION:Jordan Family Classic Cars and Hot Rod Haven Storage\, 2851 Pullman Street\, Santa Ana\, 92705\, United States
ATTACH;FMTTYPE=image/webp:https://ocrvcca.org/wp-content/uploads/2025/04/OCVCCA_2025_All_Chevy_Show_550h_X_425w.webp
ORGANIZER;CN="Dennis Hergenreter%2C Show Manager":MAILTO:carshow@ocrvcca.org
END:VEVENT
BEGIN:VEVENT
DTSTART;TZID=America/Los_Angeles:20250920T083000
DTEND;TZID=America/Los_Angeles:20250920T094500
DTSTAMP:20260423T124717
CREATED:20250518T132456Z
LAST-MODIFIED:20250821T202243Z
UID:1140-1758357000-1758361500@ocrvcca.org
SUMMARY:OCVCCA Breakfast Club
DESCRIPTION:Monthly club membership breakfast gathering.
URL:https://ocrvcca.org/event/ocvcca-breakfast-club-24/
LOCATION:IHOP E. Edinger Santa Ana\, 1740 E. Edinger Ave.\, Santa Ana\, CA\, 92705\, United States
CATEGORIES:Breakfast Club Meet,OCVCCA Event
ATTACH;FMTTYPE=image/png:https://ocrvcca.org/wp-content/uploads/2025/05/IHOP_logo.svg_-e1755807889651.png
ORGANIZER;CN="Susan Hergenreter%2C Secretary":MAILTO:secretary@ocrvcca.org
END:VEVENT
BEGIN:VEVENT
DTSTART;TZID=America/Los_Angeles:20250909T190000
DTEND;TZID=America/Los_Angeles:20250909T203000
DTSTAMP:20260423T124717
CREATED:20250518T132436Z
LAST-MODIFIED:20250518T134717Z
UID:1133-1757444400-1757449800@ocrvcca.org
SUMMARY:OCVCCA General Meeting
DESCRIPTION:Monthly club business meeting.
URL:https://ocrvcca.org/event/ocvcca-general-meeting-12/
LOCATION:Church of the Foothills\, 19211 Dodge Ave.\, Santa Ana\, CA\, 92705\, United States
ORGANIZER;CN="Denis Hergenreter%2C Director":MAILTO:director@ocrvcca.org
END:VEVENT
BEGIN:VEVENT
DTSTART;TZID=America/Los_Angeles:20250909T173000
DTEND;TZID=America/Los_Angeles:20250909T184500
DTSTAMP:20260423T124717
CREATED:20250804T131731Z
LAST-MODIFIED:20250821T210033Z
UID:1217-1757439000-1757443500@ocrvcca.org
SUMMARY:OCVCCA Supper Club
DESCRIPTION:The meeting before the meeting!
URL:https://ocrvcca.org/event/ocvcca-supper-club-2/
LOCATION:El Torito Tustin\, 17420 17th St.\, Tustin\, CA\, 92780\, United States
ORGANIZER;CN="Susan Hergenreter%2C Secretary":MAILTO:secretary@ocrvcca.org
END:VEVENT
BEGIN:VEVENT
DTSTART;TZID=America/Los_Angeles:20250812T190000
DTEND;TZID=America/Los_Angeles:20250812T203000
DTSTAMP:20260423T124717
CREATED:20250518T132436Z
LAST-MODIFIED:20250518T134750Z
UID:1132-1755025200-1755030600@ocrvcca.org
SUMMARY:OCVCCA General Meeting
DESCRIPTION:Monthly club business meeting.
URL:https://ocrvcca.org/event/ocvcca-general-meeting-11/
LOCATION:Church of the Foothills\, 19211 Dodge Ave.\, Santa Ana\, CA\, 92705\, United States
ORGANIZER;CN="Denis Hergenreter%2C Director":MAILTO:director@ocrvcca.org
END:VEVENT
BEGIN:VEVENT
DTSTART;TZID=America/Los_Angeles:20250812T053000
DTEND;TZID=America/Los_Angeles:20250812T184500
DTSTAMP:20260423T124717
CREATED:20250804T125252Z
LAST-MODIFIED:20250804T131819Z
UID:1207-1754976600-1755024300@ocrvcca.org
SUMMARY:OCVCCA Supper Club
DESCRIPTION:* * * NEW LOCATION (AGAIN) * * * *  The meeting before the meeting.
URL:https://ocrvcca.org/event/ocvcca-supper-club/
LOCATION:Wahoo’s Fish Tacos\, 13791 Newport Ave.\, Tustin\, California\, 92780\, United States
ORGANIZER;CN="Susan Hergenreter%2C Secretary":MAILTO:secretary@ocrvcca.org
END:VEVENT
BEGIN:VEVENT
DTSTART;TZID=America/Los_Angeles:20250719T090000
DTEND;TZID=America/Los_Angeles:20250719T130000
DTSTAMP:20260423T124717
CREATED:20250518T132511Z
LAST-MODIFIED:20250518T143529Z
UID:1145-1752915600-1752930000@ocrvcca.org
SUMMARY:The Lions Drag Strip Museum Tour
DESCRIPTION:Tour
URL:https://ocrvcca.org/event/the-lions-drag-strip-museum-tour/
LOCATION:The Lions Drag Strip Museum\, 2790 E Del Amo Blvd.\, Rancho Dominguez\, CA\, 90221\, United States
ORGANIZER;CN="David Potter%2C Tour Master":MAILTO:tours@ocrvcca.org
END:VEVENT
BEGIN:VEVENT
DTSTART;TZID=America/Los_Angeles:20250708T190000
DTEND;TZID=America/Los_Angeles:20250708T203000
DTSTAMP:20260423T124717
CREATED:20250518T132436Z
LAST-MODIFIED:20250707T120600Z
UID:1131-1752001200-1752006600@ocrvcca.org
SUMMARY:OCVCCA General Meeting
DESCRIPTION:Monthly club business meeting.
URL:https://ocrvcca.org/event/ocvcca-general-meeting-10/
LOCATION:Church of the Foothills\, 19211 Dodge Ave.\, Santa Ana\, CA\, 92705\, United States
ORGANIZER;CN="Denis Hergenreter%2C Director":MAILTO:director@ocrvcca.org
END:VEVENT
BEGIN:VEVENT
DTSTART;TZID=America/Los_Angeles:20250621T090000
DTEND;TZID=America/Los_Angeles:20250621T103000
DTSTAMP:20260423T124717
CREATED:20250518T132441Z
LAST-MODIFIED:20250518T135134Z
UID:1138-1750496400-1750501800@ocrvcca.org
SUMMARY:OCVCCA Breakfast Club
DESCRIPTION:Monthly club membership breakfast gathering.
URL:https://ocrvcca.org/event/ocvcca-breakfast-club-22/
LOCATION:Hof’s Hut Restaurant & Bakery\, 12489 Seal Beach Blvd.\, Seal Beach\, CA\, 90740\, United States
ORGANIZER;CN="Susan Hergenreter%2C Secretary":MAILTO:secretary@ocrvcca.org
END:VEVENT
BEGIN:VEVENT
DTSTART;TZID=America/Los_Angeles:20250610T190000
DTEND;TZID=America/Los_Angeles:20250610T203000
DTSTAMP:20260423T124717
CREATED:20250518T132435Z
LAST-MODIFIED:20250518T135420Z
UID:1130-1749582000-1749587400@ocrvcca.org
SUMMARY:OCVCCA General Meeting
DESCRIPTION:Monthly club business meeting.
URL:https://ocrvcca.org/event/ocvcca-general-meeting-9/
LOCATION:Church of the Foothills\, 19211 Dodge Ave.\, Santa Ana\, CA\, 92705\, United States
ORGANIZER;CN="Denis Hergenreter%2C Director":MAILTO:director@ocrvcca.org
END:VEVENT
BEGIN:VEVENT
DTSTART;TZID=America/Los_Angeles:20250518T110000
DTEND;TZID=America/Los_Angeles:20250518T140000
DTSTAMP:20260423T124717
CREATED:20250518T132511Z
LAST-MODIFIED:20250518T134951Z
UID:1146-1747566000-1747576800@ocrvcca.org
SUMMARY:Picnic In The Park
DESCRIPTION:Membership Picnic
URL:https://ocrvcca.org/event/picnic-in-the-park/
LOCATION:Peppertree Park\, 230 West First Street\, Tustin Street\, California\, 92780\, United States
ORGANIZER;CN="Gregg Bunch%2C Picnic Co-Chair":MAILTO:picnic@ocrbcca.org
END:VEVENT
BEGIN:VEVENT
DTSTART;TZID=America/Los_Angeles:20250513T173000
DTEND;TZID=America/Los_Angeles:20250513T184500
DTSTAMP:20260423T124717
CREATED:20250518T132441Z
LAST-MODIFIED:20250804T124518Z
UID:1137-1747157400-1747161900@ocrvcca.org
SUMMARY:OCVCCA Supper Club Dinner
DESCRIPTION:Monthly pre-meeting dinner gathering.
URL:https://ocrvcca.org/event/ocvcca-supper-club-dinner-9/
LOCATION:California
END:VEVENT
BEGIN:VEVENT
DTSTART;TZID=America/Los_Angeles:20241201T110000
DTEND;TZID=America/Los_Angeles:20241201T133000
DTSTAMP:20260423T124717
CREATED:20240407T224938Z
LAST-MODIFIED:20240408T004954Z
UID:802-1733050800-1733059800@ocrvcca.org
SUMMARY:OCVCCA Holiday Luncheon
DESCRIPTION:Come join your fellow club members at our annual Club holiday gathering as we break bread together and celebrate the festive season at this classic eatery.
URL:https://ocrvcca.org/event/ocvcca-holiday-luncheon/
LOCATION:Gulliver’s Restaurant\, 18482 MacArthur Blvd\, Irvine\, California\, 92612\, United States
ORGANIZER;CN="Judy Howard%2C Holiday Party Organizer":MAILTO:holidayparty@ocrvcca.org
END:VEVENT
BEGIN:VEVENT
DTSTART;TZID=America/Los_Angeles:20241112T190000
DTEND;TZID=America/Los_Angeles:20241112T200000
DTSTAMP:20260423T124717
CREATED:20240408T000348Z
LAST-MODIFIED:20240408T003133Z
UID:833-1731438000-1731441600@ocrvcca.org
SUMMARY:OCVCCA General Meeting
DESCRIPTION:Monthly club business meeting.
URL:https://ocrvcca.org/event/ocvcca-general-meeting-8/
LOCATION:Church of the Foothills\, 19211 Dodge Ave.\, Santa Ana\, CA\, 92705\, United States
ORGANIZER;CN="Denis Hergenreter%2C Director":MAILTO:director@ocrvcca.org
END:VEVENT
BEGIN:VEVENT
DTSTART;TZID=America/Los_Angeles:20241112T173000
DTEND;TZID=America/Los_Angeles:20241112T184500
DTSTAMP:20260423T124717
CREATED:20240408T002650Z
LAST-MODIFIED:20240608T213427Z
UID:875-1731432600-1731437100@ocrvcca.org
SUMMARY:OCVCCA Supper Club Dinner
DESCRIPTION:Monthly pre-meeting dinner gathering.
URL:https://ocrvcca.org/event/ocvcca-supper-club-dinner-8/
LOCATION:Spires Restaurant\, 13451 Newport Ave.\, Tustin\, CA\, 92780\, United States
ORGANIZER;CN="Susan Hergenreter%2C Secretary":MAILTO:secretary@ocrvcca.org
END:VEVENT
BEGIN:VEVENT
DTSTART;TZID=America/Los_Angeles:20241109T090000
DTEND;TZID=America/Los_Angeles:20241109T103000
DTSTAMP:20260423T124717
CREATED:20240408T003219Z
LAST-MODIFIED:20240608T213228Z
UID:892-1731142800-1731148200@ocrvcca.org
SUMMARY:OCVCCA Breakfast Club
DESCRIPTION:Monthly club membership breakfast gathering.
URL:https://ocrvcca.org/event/ocvcca-breakfast-club-21/
LOCATION:Hof’s Hut Restaurant & Bakery\, 12489 Seal Beach Blvd.\, Seal Beach\, CA\, 90740\, United States
ORGANIZER;CN="Susan Hergenreter%2C Secretary":MAILTO:secretary@ocrvcca.org
END:VEVENT
BEGIN:VEVENT
DTSTART;TZID=America/Los_Angeles:20241013T090000
DTEND;TZID=America/Los_Angeles:20241013T150000
DTSTAMP:20260423T124717
CREATED:20240407T213816Z
LAST-MODIFIED:20240520T014429Z
UID:785-1728810000-1728831600@ocrvcca.org
SUMMARY:OCVCCA 20th Annual All Chevrolet Show
DESCRIPTION:All Pre-2000 Chevrolet and GMC vehicles are welcome.  A portion of the proceeds go to the Vintage Chevrolet Heritage Foundation.  VCCA National Judging and PCC judging is being offered at the show.  The show will also have 35 peer judging classes and committee awards.  In all over 40 awards will be presented at the show! \n\n\n\nRegister Online Now! | Download the Mail-In Registration Form \n\n\n\nThe gate opens to entrants for parking at 7:00 AM.
URL:https://ocrvcca.org/event/ocvcca-20th-annual-all-chevrolet-show/
LOCATION:Connell Chevrolet\, 2828 Harbor Blvd\, Costa Mesa\, California\, 92626\, United States
ORGANIZER;CN="Dennis Hergenreter%2C Show Manager":MAILTO:carshow@ocrvcca.org
END:VEVENT
BEGIN:VEVENT
DTSTART;TZID=America/Los_Angeles:20241008T190000
DTEND;TZID=America/Los_Angeles:20241008T200000
DTSTAMP:20260423T124717
CREATED:20240408T000348Z
LAST-MODIFIED:20240408T003133Z
UID:832-1728414000-1728417600@ocrvcca.org
SUMMARY:OCVCCA General Meeting
DESCRIPTION:Monthly club business meeting.
URL:https://ocrvcca.org/event/ocvcca-general-meeting-7/
LOCATION:Church of the Foothills\, 19211 Dodge Ave.\, Santa Ana\, CA\, 92705\, United States
ORGANIZER;CN="Denis Hergenreter%2C Director":MAILTO:director@ocrvcca.org
END:VEVENT
BEGIN:VEVENT
DTSTART;TZID=America/Los_Angeles:20241008T173000
DTEND;TZID=America/Los_Angeles:20241008T184500
DTSTAMP:20260423T124717
CREATED:20240408T000406Z
LAST-MODIFIED:20240408T003149Z
UID:840-1728408600-1728413100@ocrvcca.org
SUMMARY:OCVCCA Supper Club Dinner
DESCRIPTION:Monthly pre-meeting dinner gathering.
URL:https://ocrvcca.org/event/ocvcca-supper-club-dinner-7/
LOCATION:Spires Restaurant\, 13451 Newport Ave.\, Tustin\, CA\, 92780\, United States
ORGANIZER;CN="Susan Hergenreter%2C Secretary":MAILTO:secretary@ocrvcca.org
END:VEVENT
END:VCALENDAR