BEGIN:VCALENDAR
VERSION:2.0
PRODID:-//Orange County Region, VCCA - ECPv6.15.20//NONSGML v1.0//EN
CALSCALE:GREGORIAN
METHOD:PUBLISH
X-WR-CALNAME:Orange County Region, VCCA
X-ORIGINAL-URL:https://ocrvcca.org
X-WR-CALDESC:Events for Orange County Region, VCCA
REFRESH-INTERVAL;VALUE=DURATION:PT1H
X-Robots-Tag:noindex
X-PUBLISHED-TTL:PT1H
BEGIN:VTIMEZONE
TZID:America/Los_Angeles
BEGIN:DAYLIGHT
TZOFFSETFROM:-0800
TZOFFSETTO:-0700
TZNAME:PDT
DTSTART:20240310T100000
END:DAYLIGHT
BEGIN:STANDARD
TZOFFSETFROM:-0700
TZOFFSETTO:-0800
TZNAME:PST
DTSTART:20241103T090000
END:STANDARD
BEGIN:DAYLIGHT
TZOFFSETFROM:-0800
TZOFFSETTO:-0700
TZNAME:PDT
DTSTART:20250309T100000
END:DAYLIGHT
BEGIN:STANDARD
TZOFFSETFROM:-0700
TZOFFSETTO:-0800
TZNAME:PST
DTSTART:20251102T090000
END:STANDARD
BEGIN:DAYLIGHT
TZOFFSETFROM:-0800
TZOFFSETTO:-0700
TZNAME:PDT
DTSTART:20260308T100000
END:DAYLIGHT
BEGIN:STANDARD
TZOFFSETFROM:-0700
TZOFFSETTO:-0800
TZNAME:PST
DTSTART:20261101T090000
END:STANDARD
BEGIN:DAYLIGHT
TZOFFSETFROM:-0800
TZOFFSETTO:-0700
TZNAME:PDT
DTSTART:20270314T100000
END:DAYLIGHT
BEGIN:STANDARD
TZOFFSETFROM:-0700
TZOFFSETTO:-0800
TZNAME:PST
DTSTART:20271107T090000
END:STANDARD
END:VTIMEZONE
BEGIN:VEVENT
DTSTART;TZID=America/Los_Angeles:20251206T110000
DTEND;TZID=America/Los_Angeles:20251206T140000
DTSTAMP:20260423T164854
CREATED:20250518T132457Z
LAST-MODIFIED:20250821T205659Z
UID:1144-1765018800-1765029600@ocrvcca.org
SUMMARY:OCVCCA Holiday Luncheon
DESCRIPTION:Holiday Luncheon
URL:https://ocrvcca.org/event/ocvcca-club-holiday-luncheon/
LOCATION:Gulliver’s Restaurant\, 18482 MacArthur Blvd\, Irvine\, California\, 92612\, United States
ATTACH;FMTTYPE=image/jpeg:https://ocrvcca.org/wp-content/uploads/2025/08/Gullivers_Irvine.jpg
ORGANIZER;CN="Judy Howard%2C Holiday Party Organizer":MAILTO:holidayparty@ocrvcca.org
END:VEVENT
BEGIN:VEVENT
DTSTART;TZID=America/Los_Angeles:20260113T173000
DTEND;TZID=America/Los_Angeles:20260113T184500
DTSTAMP:20260423T164854
CREATED:20250821T210344Z
LAST-MODIFIED:20260102T184505Z
UID:1269-1768325400-1768329900@ocrvcca.org
SUMMARY:OCVCCA Supper Club
DESCRIPTION:The meeting before the meeting.
URL:https://ocrvcca.org/event/ocvcca-supper-club-5/
LOCATION:Denny’s Restaurant – 17th Street Santa Ana\, 2314 E 17th St.\, Santa Ana\, CA 92705\, United States
ORGANIZER;CN="Janet Potter":MAILTO:djabpotter@hotmail.com
END:VEVENT
BEGIN:VEVENT
DTSTART;TZID=America/Los_Angeles:20260113T190000
DTEND;TZID=America/Los_Angeles:20260113T203000
DTSTAMP:20260423T164854
CREATED:20250518T132441Z
LAST-MODIFIED:20250518T134156Z
UID:1136-1768330800-1768336200@ocrvcca.org
SUMMARY:OCVCCA General Meeting
DESCRIPTION:Monthly club business meeting.
URL:https://ocrvcca.org/event/ocvcca-general-meeting-15/
LOCATION:Church of the Foothills\, 19211 Dodge Ave.\, Santa Ana\, CA\, 92705\, United States
ORGANIZER;CN="Denis Hergenreter%2C Director":MAILTO:director@ocrvcca.org
END:VEVENT
BEGIN:VEVENT
DTSTART;TZID=America/Los_Angeles:20260117T090000
DTEND;TZID=America/Los_Angeles:20260117T103000
DTSTAMP:20260423T164854
CREATED:20250518T132457Z
LAST-MODIFIED:20250821T204830Z
UID:1143-1768640400-1768645800@ocrvcca.org
SUMMARY:OCVCCA Breakfast Club
DESCRIPTION:Monthly club membership breakfast gathering.
URL:https://ocrvcca.org/event/ocvcca-breakfast-club-27/
LOCATION:Hof’s Hut Restaurant & Bakery\, 12489 Seal Beach Blvd.\, Seal Beach\, CA\, 90740\, United States
ATTACH;FMTTYPE=image/png:https://ocrvcca.org/wp-content/uploads/2024/04/Hofs-Hut_Logo_Horizontal.png
ORGANIZER;CN="Susan Hergenreter%2C Secretary":MAILTO:secretary@ocrvcca.org
END:VEVENT
BEGIN:VEVENT
DTSTART;TZID=America/Los_Angeles:20260517T110000
DTEND;TZID=America/Los_Angeles:20260517T140000
DTSTAMP:20260423T164854
CREATED:20260411T203548Z
LAST-MODIFIED:20260411T205910Z
UID:1343-1779015600-1779026400@ocrvcca.org
SUMMARY:OCVCCA 22nd Annual Picnic in the Park
DESCRIPTION:Come join club members as we cook up some hamburgers and hot dogs and show some of our Chevrolet and GMC vehicles to prospective new members and old friends. \n\n\n\n\n\nDownload the Flyer
URL:https://ocrvcca.org/event/ocvcca-20th-annual-picnic-in-the-park-copy/
LOCATION:Peppertree Park\, 230 West First Street\, Tustin Street\, California\, 92780\, United States
ORGANIZER;CN="Gary Howard":MAILTO:jghoward@cox.net
END:VEVENT
BEGIN:VEVENT
DTSTART;TZID=America/Los_Angeles:20261011T070000
DTEND;TZID=America/Los_Angeles:20261011T140000
DTSTAMP:20260423T164854
CREATED:20260411T203200Z
LAST-MODIFIED:20260411T223122Z
UID:1341-1791702000-1791727200@ocrvcca.org
SUMMARY:22nd Annual OCVCCA All Chevrolet Car Show
DESCRIPTION:Annual All Chevrolet Car Show \n\n\n\n\nAll Pre-2002 Chevrolet and GMC vehicles are welcome. A portion of the proceeds goes to the Vintage Chevrolet Heritage Foundation. VCCA National Judging and PCC judging are being offered at the show. \n\n\n\n\n\n\n\n\n\n\n\nDownload the Mail-in Registration Form\n\n\n\n\n\n\n\nRegister Online Now!
URL:https://ocrvcca.org/event/22st-annual-ocvcca-all-chevrolet-car-show-copy/
LOCATION:Jordan Family Classic Cars and Hot Rod Haven Storage\, 2851 Pullman Street\, Santa Ana\, 92705\, United States
ATTACH;FMTTYPE=image/webp:https://ocrvcca.org/wp-content/uploads/2026/04/OCVCCA-2026-Car-Show-Flyer-Front-scaled.webp
ORGANIZER;CN="Dennis Hergenreter%2C Show Manager":MAILTO:carshow@ocrvcca.org
END:VEVENT
END:VCALENDAR