BEGIN:VCALENDAR
VERSION:2.0
PRODID:-//Orange County Region, VCCA - ECPv6.15.20//NONSGML v1.0//EN
CALSCALE:GREGORIAN
METHOD:PUBLISH
X-ORIGINAL-URL:https://ocrvcca.org
X-WR-CALDESC:Events for Orange County Region, VCCA
REFRESH-INTERVAL;VALUE=DURATION:PT1H
X-Robots-Tag:noindex
X-PUBLISHED-TTL:PT1H
BEGIN:VTIMEZONE
TZID:America/Los_Angeles
BEGIN:DAYLIGHT
TZOFFSETFROM:-0800
TZOFFSETTO:-0700
TZNAME:PDT
DTSTART:20230312T100000
END:DAYLIGHT
BEGIN:STANDARD
TZOFFSETFROM:-0700
TZOFFSETTO:-0800
TZNAME:PST
DTSTART:20231105T090000
END:STANDARD
BEGIN:DAYLIGHT
TZOFFSETFROM:-0800
TZOFFSETTO:-0700
TZNAME:PDT
DTSTART:20240310T100000
END:DAYLIGHT
BEGIN:STANDARD
TZOFFSETFROM:-0700
TZOFFSETTO:-0800
TZNAME:PST
DTSTART:20241103T090000
END:STANDARD
BEGIN:DAYLIGHT
TZOFFSETFROM:-0800
TZOFFSETTO:-0700
TZNAME:PDT
DTSTART:20250309T100000
END:DAYLIGHT
BEGIN:STANDARD
TZOFFSETFROM:-0700
TZOFFSETTO:-0800
TZNAME:PST
DTSTART:20251102T090000
END:STANDARD
END:VTIMEZONE
BEGIN:VEVENT
DTSTART;TZID=America/Los_Angeles:20240706T100000
DTEND;TZID=America/Los_Angeles:20240706T113000
DTSTAMP:20260424T093043
CREATED:20240409T013734Z
LAST-MODIFIED:20240409T013931Z
UID:911-1720260000-1720265400@ocrvcca.org
SUMMARY:Foothill Region\, VCCA Pacific Railroad Society Museum Area 1 Tour
DESCRIPTION:A VCCA Area 1 tour to a railroad museum in a historic train depot in San Dimas\, CA. Breakfast will be prior at Roady’s Restaurant next to the museum.  RSVPs will be taken soon.
URL:https://ocrvcca.org/event/foothill-region-vcca-pacific-railroad-society-museum-area-1-tour/
LOCATION:Pacific Railroad Society Museum\, 210 W. Bonita Ave.\, San Dimas\, CA\, 91773
ORGANIZER;CN="Susan Hergenreter%2C Secretary":MAILTO:secretary@ocrvcca.org
END:VEVENT
BEGIN:VEVENT
DTSTART;TZID=America/Los_Angeles:20240709T173000
DTEND;TZID=America/Los_Angeles:20240709T184500
DTSTAMP:20260424T093043
CREATED:20240408T000403Z
LAST-MODIFIED:20240408T003149Z
UID:837-1720546200-1720550700@ocrvcca.org
SUMMARY:OCVCCA Supper Club Dinner
DESCRIPTION:Monthly pre-meeting dinner gathering.
URL:https://ocrvcca.org/event/ocvcca-supper-club-dinner-4/
LOCATION:Spires Restaurant\, 13451 Newport Ave.\, Tustin\, CA\, 92780\, United States
ORGANIZER;CN="Susan Hergenreter%2C Secretary":MAILTO:secretary@ocrvcca.org
END:VEVENT
BEGIN:VEVENT
DTSTART;TZID=America/Los_Angeles:20240709T190000
DTEND;TZID=America/Los_Angeles:20240709T200000
DTSTAMP:20260424T093043
CREATED:20240408T000344Z
LAST-MODIFIED:20240408T003130Z
UID:829-1720551600-1720555200@ocrvcca.org
SUMMARY:OCVCCA General Meeting
DESCRIPTION:Monthly club business meeting.
URL:https://ocrvcca.org/event/ocvcca-general-meeting-4/
LOCATION:Church of the Foothills\, 19211 Dodge Ave.\, Santa Ana\, CA\, 92705\, United States
ORGANIZER;CN="Denis Hergenreter%2C Director":MAILTO:director@ocrvcca.org
END:VEVENT
BEGIN:VEVENT
DTSTART;TZID=America/Los_Angeles:20240713T090000
DTEND;TZID=America/Los_Angeles:20240713T103000
DTSTAMP:20260424T093043
CREATED:20240408T003204Z
LAST-MODIFIED:20240408T003204Z
UID:889-1720861200-1720866600@ocrvcca.org
SUMMARY:OCVCCA Breakfast Club
DESCRIPTION:Monthly club membership breakfast gathering.
URL:https://ocrvcca.org/event/ocvcca-breakfast-club-18/
LOCATION:Hof’s Hut Restaurant & Bakery\, 12489 Seal Beach Blvd.\, Seal Beach\, CA\, 90740\, United States
ORGANIZER;CN="Susan Hergenreter%2C Secretary":MAILTO:secretary@ocrvcca.org
END:VEVENT
END:VCALENDAR