BEGIN:VCALENDAR
VERSION:2.0
PRODID:-//Orange County Region, VCCA - ECPv6.15.20//NONSGML v1.0//EN
CALSCALE:GREGORIAN
METHOD:PUBLISH
X-ORIGINAL-URL:https://ocrvcca.org
X-WR-CALDESC:Events for Orange County Region, VCCA
REFRESH-INTERVAL;VALUE=DURATION:PT1H
X-Robots-Tag:noindex
X-PUBLISHED-TTL:PT1H
BEGIN:VTIMEZONE
TZID:America/Los_Angeles
BEGIN:DAYLIGHT
TZOFFSETFROM:-0800
TZOFFSETTO:-0700
TZNAME:PDT
DTSTART:20230312T100000
END:DAYLIGHT
BEGIN:STANDARD
TZOFFSETFROM:-0700
TZOFFSETTO:-0800
TZNAME:PST
DTSTART:20231105T090000
END:STANDARD
BEGIN:DAYLIGHT
TZOFFSETFROM:-0800
TZOFFSETTO:-0700
TZNAME:PDT
DTSTART:20240310T100000
END:DAYLIGHT
BEGIN:STANDARD
TZOFFSETFROM:-0700
TZOFFSETTO:-0800
TZNAME:PST
DTSTART:20241103T090000
END:STANDARD
BEGIN:DAYLIGHT
TZOFFSETFROM:-0800
TZOFFSETTO:-0700
TZNAME:PDT
DTSTART:20250309T100000
END:DAYLIGHT
BEGIN:STANDARD
TZOFFSETFROM:-0700
TZOFFSETTO:-0800
TZNAME:PST
DTSTART:20251102T090000
END:STANDARD
END:VTIMEZONE
BEGIN:VEVENT
DTSTART;TZID=America/Los_Angeles:20240810T090000
DTEND;TZID=America/Los_Angeles:20240810T103000
DTSTAMP:20260424T082419
CREATED:20240408T003218Z
LAST-MODIFIED:20240408T003218Z
UID:890-1723280400-1723285800@ocrvcca.org
SUMMARY:OCVCCA Breakfast Club
DESCRIPTION:Monthly club membership breakfast gathering.
URL:https://ocrvcca.org/event/ocvcca-breakfast-club-19/
LOCATION:Hof’s Hut Restaurant & Bakery\, 12489 Seal Beach Blvd.\, Seal Beach\, CA\, 90740\, United States
ORGANIZER;CN="Susan Hergenreter%2C Secretary":MAILTO:secretary@ocrvcca.org
END:VEVENT
BEGIN:VEVENT
DTSTART;TZID=America/Los_Angeles:20240813T173000
DTEND;TZID=America/Los_Angeles:20240813T184500
DTSTAMP:20260424T082419
CREATED:20240408T000404Z
LAST-MODIFIED:20240408T003149Z
UID:838-1723570200-1723574700@ocrvcca.org
SUMMARY:OCVCCA Supper Club Dinner
DESCRIPTION:Monthly pre-meeting dinner gathering.
URL:https://ocrvcca.org/event/ocvcca-supper-club-dinner-5/
LOCATION:Spires Restaurant\, 13451 Newport Ave.\, Tustin\, CA\, 92780\, United States
ORGANIZER;CN="Susan Hergenreter%2C Secretary":MAILTO:secretary@ocrvcca.org
END:VEVENT
BEGIN:VEVENT
DTSTART;TZID=America/Los_Angeles:20240813T190000
DTEND;TZID=America/Los_Angeles:20240813T200000
DTSTAMP:20260424T082419
CREATED:20240408T000344Z
LAST-MODIFIED:20240408T003131Z
UID:830-1723575600-1723579200@ocrvcca.org
SUMMARY:OCVCCA General Meeting
DESCRIPTION:Monthly club business meeting.
URL:https://ocrvcca.org/event/ocvcca-general-meeting-5/
LOCATION:Church of the Foothills\, 19211 Dodge Ave.\, Santa Ana\, CA\, 92705\, United States
ORGANIZER;CN="Denis Hergenreter%2C Director":MAILTO:director@ocrvcca.org
END:VEVENT
BEGIN:VEVENT
DTSTART;TZID=America/Los_Angeles:20240824T100000
DTEND;TZID=America/Los_Angeles:20240824T120000
DTSTAMP:20260424T082419
CREATED:20240409T014936Z
LAST-MODIFIED:20240409T023213Z
UID:919-1724493600-1724500800@ocrvcca.org
SUMMARY:PCCVCCA Petersen Automotive Museum Area 1 Tour
DESCRIPTION:The Personalized Chevrolet Chapter is hosting its first tour here in Area 1.  All VCCA members are invited to attend.  The group will tour the Petersen Automotive Museum in Los Angeles.  Lunch will be “on-your-own” with a list of several choices of fabulous eateries near the museum.  RSVPs will be accepted shortly.  Check back for more info soon.
URL:https://ocrvcca.org/event/pccvcca-petersen-automotive-museum-area-1-tour/
LOCATION:Petersen Automotive Museum\, 6060 Wilshire Blvd.\, Los Angeles\, CA\, 90036\, United States
ORGANIZER;CN="Susan Hergenreter%2C Secretary":MAILTO:secretary@ocrvcca.org
END:VEVENT
END:VCALENDAR